BEGIN:VCALENDAR
VERSION:2.0
PRODID:-//Kreisgruppe Mayen-Koblenz - ECPv6.10.2//NONSGML v1.0//EN
CALSCALE:GREGORIAN
METHOD:PUBLISH
X-ORIGINAL-URL:https://mayen-koblenz.ljv-rlp.de
X-WR-CALDESC:Veranstaltungen für Kreisgruppe Mayen-Koblenz
REFRESH-INTERVAL;VALUE=DURATION:PT1H
X-Robots-Tag:noindex
X-PUBLISHED-TTL:PT1H
BEGIN:VTIMEZONE
TZID:Europe/Berlin
BEGIN:DAYLIGHT
TZOFFSETFROM:+0100
TZOFFSETTO:+0200
TZNAME:CEST
DTSTART:20260329T010000
END:DAYLIGHT
BEGIN:STANDARD
TZOFFSETFROM:+0200
TZOFFSETTO:+0100
TZNAME:CET
DTSTART:20261025T010000
END:STANDARD
END:VTIMEZONE
BEGIN:VEVENT
DTSTART;TZID=Europe/Berlin:20260418T143000
DTEND;TZID=Europe/Berlin:20260418T180000
DTSTAMP:20260421T232919
CREATED:20260126T122451Z
LAST-MODIFIED:20260126T122451Z
UID:24948-1776522600-1776535200@mayen-koblenz.ljv-rlp.de
SUMMARY:HR-Schießen Maifeld
DESCRIPTION:Der Hegering Maifeld hat sein diesjähriges Hegeringschießen auf dem Schießstand Mayen schon auf Samstag\, den 18.04.2025 14.30 Uhr terminiert. Bitte merken Sie sich diesen Termin vor. \nDr. Günther Feils\, HRL
URL:https://mayen-koblenz.ljv-rlp.de/termin/hr-schiessen-maifeld/
LOCATION:LJV-Schießstand Mayen\, Kuhtrift 500\, Mayen\, Rheinland-Pfalz\, 56727\, Deutschland
END:VEVENT
END:VCALENDAR