BEGIN:VCALENDAR
VERSION:2.0
PRODID:-//Kreisgruppe Mayen-Koblenz - ECPv6.10.2//NONSGML v1.0//EN
CALSCALE:GREGORIAN
METHOD:PUBLISH
X-ORIGINAL-URL:https://mayen-koblenz.ljv-rlp.de
X-WR-CALDESC:Veranstaltungen für Kreisgruppe Mayen-Koblenz
REFRESH-INTERVAL;VALUE=DURATION:PT1H
X-Robots-Tag:noindex
X-PUBLISHED-TTL:PT1H
BEGIN:VTIMEZONE
TZID:Europe/Berlin
BEGIN:DAYLIGHT
TZOFFSETFROM:+0100
TZOFFSETTO:+0200
TZNAME:CEST
DTSTART:20260329T010000
END:DAYLIGHT
BEGIN:STANDARD
TZOFFSETFROM:+0200
TZOFFSETTO:+0100
TZNAME:CET
DTSTART:20261025T010000
END:STANDARD
END:VTIMEZONE
BEGIN:VEVENT
DTSTART;TZID=Europe/Berlin:20260412T110000
DTEND;TZID=Europe/Berlin:20260412T140000
DTSTAMP:20260421T215345
CREATED:20260113T184853Z
LAST-MODIFIED:20260113T184853Z
UID:24934-1775991600-1776002400@mayen-koblenz.ljv-rlp.de
SUMMARY:Jahreshauptversammlung 2026
DESCRIPTION:SAVE THE DATE\nWeitere Infos dazu folgen in Kürze.
URL:https://mayen-koblenz.ljv-rlp.de/termin/jahreshauptversammlung-2026/
LOCATION:Mittelrheinhalle Andernach\, Konrad-Adenauer-Allee 1\, Andernach\, Rheinland-Pfalz\, 56626\, Germany
CATEGORIES:Kreisgruppe
ATTACH;FMTTYPE=image/jpeg:https://mayen-koblenz.ljv-rlp.de/wp-content/uploads/sites/29/2026/01/save_the_date.jpg
END:VEVENT
END:VCALENDAR