BEGIN:VCALENDAR
VERSION:2.0
PRODID:-//Kreisgruppe Mayen-Koblenz - ECPv6.10.2//NONSGML v1.0//EN
CALSCALE:GREGORIAN
METHOD:PUBLISH
X-WR-CALNAME:Kreisgruppe Mayen-Koblenz
X-ORIGINAL-URL:https://mayen-koblenz.ljv-rlp.de
X-WR-CALDESC:Veranstaltungen für Kreisgruppe Mayen-Koblenz
REFRESH-INTERVAL;VALUE=DURATION:PT1H
X-Robots-Tag:noindex
X-PUBLISHED-TTL:PT1H
BEGIN:VTIMEZONE
TZID:Europe/Berlin
BEGIN:DAYLIGHT
TZOFFSETFROM:+0100
TZOFFSETTO:+0200
TZNAME:CEST
DTSTART:20260329T010000
END:DAYLIGHT
BEGIN:STANDARD
TZOFFSETFROM:+0200
TZOFFSETTO:+0100
TZNAME:CET
DTSTART:20261025T010000
END:STANDARD
END:VTIMEZONE
BEGIN:VEVENT
DTSTART;TZID=Europe/Berlin:20260411T150000
DTEND;TZID=Europe/Berlin:20260411T180000
DTSTAMP:20260421T215502
CREATED:20260403T093143Z
LAST-MODIFIED:20260403T093143Z
UID:25122-1775919600-1775930400@mayen-koblenz.ljv-rlp.de
SUMMARY:HR-Schießen Hellenthal
DESCRIPTION:
URL:https://mayen-koblenz.ljv-rlp.de/termin/hr-schiessen-hellenthal/
LOCATION:LJV-Schießstand Mayen\, Kuhtrift 500\, Mayen\, Rheinland-Pfalz\, 56727\, Deutschland
CATEGORIES:Hegeringe
END:VEVENT
END:VCALENDAR