BEGIN:VCALENDAR
VERSION:2.0
PRODID:-//Kreisgruppe Mayen-Koblenz - ECPv6.10.2//NONSGML v1.0//EN
CALSCALE:GREGORIAN
METHOD:PUBLISH
X-WR-CALNAME:Kreisgruppe Mayen-Koblenz
X-ORIGINAL-URL:https://mayen-koblenz.ljv-rlp.de
X-WR-CALDESC:Veranstaltungen für Kreisgruppe Mayen-Koblenz
REFRESH-INTERVAL;VALUE=DURATION:PT1H
X-Robots-Tag:noindex
X-PUBLISHED-TTL:PT1H
BEGIN:VTIMEZONE
TZID:Europe/Berlin
BEGIN:DAYLIGHT
TZOFFSETFROM:+0100
TZOFFSETTO:+0200
TZNAME:CEST
DTSTART:20260329T010000
END:DAYLIGHT
BEGIN:STANDARD
TZOFFSETFROM:+0200
TZOFFSETTO:+0100
TZNAME:CET
DTSTART:20261025T010000
END:STANDARD
END:VTIMEZONE
BEGIN:VEVENT
DTSTART;TZID=Europe/Berlin:20260328T160000
DTEND;TZID=Europe/Berlin:20260328T190000
DTSTAMP:20260421T233827
CREATED:20251228T111722Z
LAST-MODIFIED:20260126T122124Z
UID:24915-1774713600-1774724400@mayen-koblenz.ljv-rlp.de
SUMMARY:HR-Versammlung Maifeld
DESCRIPTION:Der Hegering Maifeld lädt seine Mitglieder\, die Revierpächter des HR und interessierte Jäger\, zur HR – Versammlung am Samstag\, den 28.03.2026 um16.00 Uhr in die Schützenhalle Kalt ein. In diesem Jahr steht wieder die Wahl des HR- Vorstandes auf der Tagesordnung. \nTrophäen  des letzten Jagdjahres können von 10.00 bis 14.00 Uhr im Versammlungslokal abgegeben werden. Alternativ ist die Trophäenabgabe in der Woche zuvor beim HRL oder seinen Stellvertretern nach Absprache möglich. \nDr. Günther Feils\, HRL
URL:https://mayen-koblenz.ljv-rlp.de/termin/hr-versammlung-maifeld/
LOCATION:Schützenhalle Kalt\, Kalt\, Rheinland-Pfalz\, 56294\, Deutschland
END:VEVENT
END:VCALENDAR