BEGIN:VCALENDAR
VERSION:2.0
PRODID:-//Kreisgruppe Mayen-Koblenz - ECPv6.10.2//NONSGML v1.0//EN
CALSCALE:GREGORIAN
METHOD:PUBLISH
X-ORIGINAL-URL:https://mayen-koblenz.ljv-rlp.de
X-WR-CALDESC:Veranstaltungen für Kreisgruppe Mayen-Koblenz
REFRESH-INTERVAL;VALUE=DURATION:PT1H
X-Robots-Tag:noindex
X-PUBLISHED-TTL:PT1H
BEGIN:VTIMEZONE
TZID:Europe/Berlin
BEGIN:DAYLIGHT
TZOFFSETFROM:+0100
TZOFFSETTO:+0200
TZNAME:CEST
DTSTART:20260329T010000
END:DAYLIGHT
BEGIN:STANDARD
TZOFFSETFROM:+0200
TZOFFSETTO:+0100
TZNAME:CET
DTSTART:20261025T010000
END:STANDARD
END:VTIMEZONE
BEGIN:VEVENT
DTSTART;TZID=Europe/Berlin:20260313T183000
DTEND;TZID=Europe/Berlin:20260313T210000
DTSTAMP:20260421T233135
CREATED:20251230T103427Z
LAST-MODIFIED:20251230T103427Z
UID:24923-1773426600-1773435600@mayen-koblenz.ljv-rlp.de
SUMMARY:HR-Versammlung Brodenbach / Löf / Rhein-Mosel-Dreieck
DESCRIPTION:
URL:https://mayen-koblenz.ljv-rlp.de/termin/hr-versammlung-brodenbach-loef-rhein-mosel-dreieck/
LOCATION:Hotel Pistono\, Hauptstraße 30\, Dieblich\, 56332
END:VEVENT
END:VCALENDAR