BEGIN:VCALENDAR
VERSION:2.0
PRODID:-//Kreisgruppe Mayen-Koblenz - ECPv6.10.2//NONSGML v1.0//EN
CALSCALE:GREGORIAN
METHOD:PUBLISH
X-ORIGINAL-URL:https://mayen-koblenz.ljv-rlp.de
X-WR-CALDESC:Veranstaltungen für Kreisgruppe Mayen-Koblenz
REFRESH-INTERVAL;VALUE=DURATION:PT1H
X-Robots-Tag:noindex
X-PUBLISHED-TTL:PT1H
BEGIN:VTIMEZONE
TZID:Europe/Berlin
BEGIN:DAYLIGHT
TZOFFSETFROM:+0100
TZOFFSETTO:+0200
TZNAME:CEST
DTSTART:20260329T010000
END:DAYLIGHT
BEGIN:STANDARD
TZOFFSETFROM:+0200
TZOFFSETTO:+0100
TZNAME:CET
DTSTART:20261025T010000
END:STANDARD
END:VTIMEZONE
BEGIN:VEVENT
DTSTART;TZID=Europe/Berlin:20260307T160000
DTEND;TZID=Europe/Berlin:20260307T190000
DTSTAMP:20260421T234151
CREATED:20251228T111233Z
LAST-MODIFIED:20251228T111233Z
UID:24909-1772899200-1772910000@mayen-koblenz.ljv-rlp.de
SUMMARY:HR-Versammlung Kettig / Winningen
DESCRIPTION:Trophäenabgabe 10:30 – 12:00 Uhr im Hotel Moselblick
URL:https://mayen-koblenz.ljv-rlp.de/termin/hr-versammlung-kettig-winningen/
LOCATION:Hotel Moselblick\, Winningen\, An der B 416 (Inselweg)\, Winningen\, Rheinland-Pfalz\, 56333\, Germany
CATEGORIES:Hegeringe
END:VEVENT
END:VCALENDAR