BEGIN:VCALENDAR
VERSION:2.0
PRODID:-//Kreisgruppe Mayen-Koblenz - ECPv6.10.2//NONSGML v1.0//EN
CALSCALE:GREGORIAN
METHOD:PUBLISH
X-ORIGINAL-URL:https://mayen-koblenz.ljv-rlp.de
X-WR-CALDESC:Veranstaltungen für Kreisgruppe Mayen-Koblenz
REFRESH-INTERVAL;VALUE=DURATION:PT1H
X-Robots-Tag:noindex
X-PUBLISHED-TTL:PT1H
BEGIN:VTIMEZONE
TZID:Europe/Berlin
BEGIN:DAYLIGHT
TZOFFSETFROM:+0100
TZOFFSETTO:+0200
TZNAME:CEST
DTSTART:20260329T010000
END:DAYLIGHT
BEGIN:STANDARD
TZOFFSETFROM:+0200
TZOFFSETTO:+0100
TZNAME:CET
DTSTART:20261025T010000
END:STANDARD
END:VTIMEZONE
BEGIN:VEVENT
DTSTART;TZID=Europe/Berlin:20260228T150000
DTEND;TZID=Europe/Berlin:20260228T170000
DTSTAMP:20260421T232932
CREATED:20251228T111452Z
LAST-MODIFIED:20251228T111452Z
UID:24913-1772290800-1772298000@mayen-koblenz.ljv-rlp.de
SUMMARY:HR-Versammlung Langenfeld
DESCRIPTION:Trophäenabgabe 9:30 Uhr im Gasthaus Krone
URL:https://mayen-koblenz.ljv-rlp.de/termin/hr-versammlung-langenfeld/
LOCATION:Gasthaus „Zur Krone“\, Mayener Str. 9\, Langenfeld\, Rheinland-Pfalz\, 56729\, Germany
END:VEVENT
END:VCALENDAR