BEGIN:VCALENDAR
VERSION:2.0
PRODID:-//Kreisgruppe Mayen-Koblenz - ECPv6.10.2//NONSGML v1.0//EN
CALSCALE:GREGORIAN
METHOD:PUBLISH
X-WR-CALNAME:Kreisgruppe Mayen-Koblenz
X-ORIGINAL-URL:https://mayen-koblenz.ljv-rlp.de
X-WR-CALDESC:Veranstaltungen für Kreisgruppe Mayen-Koblenz
REFRESH-INTERVAL;VALUE=DURATION:PT1H
X-Robots-Tag:noindex
X-PUBLISHED-TTL:PT1H
BEGIN:VTIMEZONE
TZID:Europe/Berlin
BEGIN:DAYLIGHT
TZOFFSETFROM:+0100
TZOFFSETTO:+0200
TZNAME:CEST
DTSTART:20260329T010000
END:DAYLIGHT
BEGIN:STANDARD
TZOFFSETFROM:+0200
TZOFFSETTO:+0100
TZNAME:CET
DTSTART:20261025T010000
END:STANDARD
END:VTIMEZONE
BEGIN:VEVENT
DTSTART;VALUE=DATE:20260202
DTEND;VALUE=DATE:20260209
DTSTAMP:20260422T011224
CREATED:20251203T165449Z
LAST-MODIFIED:20251203T165449Z
UID:24899-1769990400-1770595199@mayen-koblenz.ljv-rlp.de
SUMMARY:HR-Andernach: Fuchsjagdwoche
DESCRIPTION:Vom 2.2. bis zum 8.2. findet unsere diesjährige Fuchsjagdwoche statt. Streckelegen ist am Sonntag den\n8.2. um 10.00 Uhr auf dem Gelände der Firma Schuh in Plaidt. Nach den Erfolgen der letzten Jahre bleibt\nabzuwarten was diesmal gelingen wird. Für das leibliche Wohl wird gesorgt. Jagdhörner mit bringen. \nHelmut Anspach\, HR-Leiter
URL:https://mayen-koblenz.ljv-rlp.de/termin/hr-andernach-fuchsjagdwoche/
LOCATION:Rheinland-Pfalz
CATEGORIES:Hegeringe
END:VEVENT
END:VCALENDAR